BEGIN:VCALENDAR
VERSION:2.0
PRODID:-//ASV Senden e.V. - ECPv6.15.20//NONSGML v1.0//EN
CALSCALE:GREGORIAN
METHOD:PUBLISH
X-WR-CALNAME:ASV Senden e.V.
X-ORIGINAL-URL:https://www.asv-senden.de
X-WR-CALDESC:Veranstaltungen für ASV Senden e.V.
REFRESH-INTERVAL;VALUE=DURATION:PT1H
X-Robots-Tag:noindex
X-PUBLISHED-TTL:PT1H
BEGIN:VTIMEZONE
TZID:Europe/Berlin
BEGIN:DAYLIGHT
TZOFFSETFROM:+0100
TZOFFSETTO:+0200
TZNAME:CEST
DTSTART:20230326T010000
END:DAYLIGHT
BEGIN:STANDARD
TZOFFSETFROM:+0200
TZOFFSETTO:+0100
TZNAME:CET
DTSTART:20231029T010000
END:STANDARD
BEGIN:DAYLIGHT
TZOFFSETFROM:+0100
TZOFFSETTO:+0200
TZNAME:CEST
DTSTART:20240331T010000
END:DAYLIGHT
BEGIN:STANDARD
TZOFFSETFROM:+0200
TZOFFSETTO:+0100
TZNAME:CET
DTSTART:20241027T010000
END:STANDARD
BEGIN:DAYLIGHT
TZOFFSETFROM:+0100
TZOFFSETTO:+0200
TZNAME:CEST
DTSTART:20250330T010000
END:DAYLIGHT
BEGIN:STANDARD
TZOFFSETFROM:+0200
TZOFFSETTO:+0100
TZNAME:CET
DTSTART:20251026T010000
END:STANDARD
END:VTIMEZONE
BEGIN:VEVENT
DTSTART;TZID=Europe/Berlin:20241221T100000
DTEND;TZID=Europe/Berlin:20241221T130000
DTSTAMP:20260421T200434
CREATED:20241203T071952Z
LAST-MODIFIED:20241203T071952Z
UID:5176-1734775200-1734786000@www.asv-senden.de
SUMMARY:Spielfest der Handball-Minis
DESCRIPTION:Am Samstag\, dem 21. Dezember 2024 sind die Mini-Mannschaften um Trainerin Stefanie Michaelis und Team von 10:00 bis 13:00 Uhr Gastgeber eines Spielfests in der Neuen Halle. Hier werden wieder zwei Handballspielfelder aufgebaut\, sowie eine Bewegungslandschaft. \nWeitere Termine in 2025 sind dann: \n\n19.01.2025 in Gremmendorf\n16.02.2025 in Coesfeld\n09.03.2025 in Roxel\n29.03.2025 in Everswinkel\n05.04.2025 in Emsdetten
URL:https://www.asv-senden.de/veranstaltung/spielfest-der-handball-minis/
LOCATION:Neue Halle (Halle 1)\, Bulderner Str. 13b\, Senden\, NRW\, 48308\, Germany
CATEGORIES:Handball
ATTACH;FMTTYPE=image/jpeg:https://www.asv-senden.de/wp-content/uploads/2024/08/beitrag_handball1_640x320.jpg
ORGANIZER;CN="ASV Senden Turn- und Hallensport e.V.":MAILTO:info@asv-senden.de
END:VEVENT
END:VCALENDAR