BEGIN:VCALENDAR
VERSION:2.0
PRODID:-//ASV Senden e.V. - ECPv6.15.20//NONSGML v1.0//EN
CALSCALE:GREGORIAN
METHOD:PUBLISH
X-WR-CALNAME:ASV Senden e.V.
X-ORIGINAL-URL:https://www.asv-senden.de
X-WR-CALDESC:Veranstaltungen für ASV Senden e.V.
REFRESH-INTERVAL;VALUE=DURATION:PT1H
X-Robots-Tag:noindex
X-PUBLISHED-TTL:PT1H
BEGIN:VTIMEZONE
TZID:Europe/Berlin
BEGIN:DAYLIGHT
TZOFFSETFROM:+0100
TZOFFSETTO:+0200
TZNAME:CEST
DTSTART:20240331T010000
END:DAYLIGHT
BEGIN:STANDARD
TZOFFSETFROM:+0200
TZOFFSETTO:+0100
TZNAME:CET
DTSTART:20241027T010000
END:STANDARD
BEGIN:DAYLIGHT
TZOFFSETFROM:+0100
TZOFFSETTO:+0200
TZNAME:CEST
DTSTART:20250330T010000
END:DAYLIGHT
BEGIN:STANDARD
TZOFFSETFROM:+0200
TZOFFSETTO:+0100
TZNAME:CET
DTSTART:20251026T010000
END:STANDARD
BEGIN:DAYLIGHT
TZOFFSETFROM:+0100
TZOFFSETTO:+0200
TZNAME:CEST
DTSTART:20260329T010000
END:DAYLIGHT
BEGIN:STANDARD
TZOFFSETFROM:+0200
TZOFFSETTO:+0100
TZNAME:CET
DTSTART:20261025T010000
END:STANDARD
END:VTIMEZONE
BEGIN:VEVENT
DTSTART;TZID=Europe/Berlin:20250120T180000
DTEND;TZID=Europe/Berlin:20250120T190000
DTSTAMP:20260424T133347
CREATED:20250103T111311Z
LAST-MODIFIED:20250103T111332Z
UID:5388-1737396000-1737399600@www.asv-senden.de
SUMMARY:Übergabe der Sportabzeichen Urkunden
DESCRIPTION:Sehr geehrte Sportler und Sportlerinnen\,\nhiermit laden wir Sie herzlich zur Übergabe der Sportabzeichen Urkunde ein.\nDie Übergabe erfolgt am Montag\, den 20.01.2025 um 18:00h im Versammlungsraum /Anbau der Halle am Cabrio statt.\nSollte die Urkunde nicht persönlich entgegengenommen werden können\,  wird diese ab dem 21.01.2025 in der ASV Geschäftsstelle hinterlegt. Diese kann zu den Öffnungszeiten dort abgeholt werden. \nMit sportlichem Gruß\nDas    Sportabzeichen Team
URL:https://www.asv-senden.de/veranstaltung/uebergabe-der-sportabzeichen-urkunden/
LOCATION:Anbau an der Halle 2
CATEGORIES:Sportabzeichen
ORGANIZER;CN="ASV Senden Turn- und Hallensport e.V.":MAILTO:info@asv-senden.de
END:VEVENT
END:VCALENDAR