BEGIN:VCALENDAR
VERSION:2.0
PRODID:-//ASV Senden e.V. - ECPv6.15.20//NONSGML v1.0//EN
CALSCALE:GREGORIAN
METHOD:PUBLISH
X-WR-CALNAME:ASV Senden e.V.
X-ORIGINAL-URL:https://www.asv-senden.de
X-WR-CALDESC:Veranstaltungen für ASV Senden e.V.
REFRESH-INTERVAL;VALUE=DURATION:PT1H
X-Robots-Tag:noindex
X-PUBLISHED-TTL:PT1H
BEGIN:VTIMEZONE
TZID:Europe/Berlin
BEGIN:DAYLIGHT
TZOFFSETFROM:+0100
TZOFFSETTO:+0200
TZNAME:CEST
DTSTART:20230326T010000
END:DAYLIGHT
BEGIN:STANDARD
TZOFFSETFROM:+0200
TZOFFSETTO:+0100
TZNAME:CET
DTSTART:20231029T010000
END:STANDARD
BEGIN:DAYLIGHT
TZOFFSETFROM:+0100
TZOFFSETTO:+0200
TZNAME:CEST
DTSTART:20240331T010000
END:DAYLIGHT
BEGIN:STANDARD
TZOFFSETFROM:+0200
TZOFFSETTO:+0100
TZNAME:CET
DTSTART:20241027T010000
END:STANDARD
BEGIN:DAYLIGHT
TZOFFSETFROM:+0100
TZOFFSETTO:+0200
TZNAME:CEST
DTSTART:20250330T010000
END:DAYLIGHT
BEGIN:STANDARD
TZOFFSETFROM:+0200
TZOFFSETTO:+0100
TZNAME:CET
DTSTART:20251026T010000
END:STANDARD
END:VTIMEZONE
BEGIN:VEVENT
DTSTART;TZID=Europe/Berlin:20240603T173000
DTEND;TZID=Europe/Berlin:20240603T190000
DTSTAMP:20260425T151035
CREATED:20240529T070641Z
LAST-MODIFIED:20240623T165626Z
UID:440-1717435800-1717441200@www.asv-senden.de
SUMMARY:Abnahme des Sportabzeichens
DESCRIPTION:Es ist wieder soweit\, wir bieten einen weiteren Termin zur Abnahme des Sportabzeichens an. Treffpunkt ist am 03.06.2024 im Sportpark Senden auf dem Sportplatz in der Zeit von 17:30 – 19:00 Uhr. \nFür Rückfragen ist die Geschäftstelle des ASV Senden gerne per Mail für Sie da. \nDie Gebühren für die Abnahme ab 18 Jahre sind: \n\nMitglieder des ASV Senden: 3\,- €\nNichtmitglieder: 5\,- €\n\nMit sportlichem Gruß\,\nDas Sportabzeichen Abnahme Team des ASV Senden
URL:https://www.asv-senden.de/veranstaltung/abnahme-des-sportabzeichens-240603/
LOCATION:Sportpark Senden\, Bulderner Str. 13\, Senden\, NRW\, 48308
CATEGORIES:Leichtathletik,Sportabzeichen
ATTACH;FMTTYPE=image/jpeg:https://www.asv-senden.de/wp-content/uploads/2024/06/beitrag_sportabzeichen_allgemein_640x320.jpg
ORGANIZER;CN="ASV Senden Turn- und Hallensport e.V.":MAILTO:info@asv-senden.de
END:VEVENT
BEGIN:VEVENT
DTSTART;TZID=Europe/Berlin:20240614T163000
DTEND;TZID=Europe/Berlin:20240614T163000
DTSTAMP:20260425T151035
CREATED:20240611T134120Z
LAST-MODIFIED:20240623T162233Z
UID:1414-1718382600-1718382600@www.asv-senden.de
SUMMARY:Schach Vereinsjugendmeisterschaft 2024
DESCRIPTION:Am Freitag\, dem 14.06.2024 um 16:30 Uhr wird die 1. Runde der Vereinsjugendmeisterschaft der Schachabteilung des ASV Senden ausgetragen. Veranstaltungsort ist der Anbau der alten Halle im Sportpark Senden\, Bulderner Straße 13c\, 48308 Senden. Spielpaarungen und weitere Informationen finden Sie auf der externen Seite der Schachabteilung.
URL:https://www.asv-senden.de/veranstaltung/schach-vereinsjugendmeisterschaft-240614/
LOCATION:Sportpark Senden\, Bulderner Str. 13\, Senden\, NRW\, 48308
CATEGORIES:Schach
ATTACH;FMTTYPE=image/jpeg:https://www.asv-senden.de/wp-content/uploads/2024/06/beitrag_schach_allgemein_640x320.jpg
ORGANIZER;CN="ASV Senden Turn- und Hallensport e.V.":MAILTO:info@asv-senden.de
END:VEVENT
BEGIN:VEVENT
DTSTART;TZID=Europe/Berlin:20240617T173000
DTEND;TZID=Europe/Berlin:20240617T190000
DTSTAMP:20260425T151035
CREATED:20240529T123319Z
LAST-MODIFIED:20240623T165615Z
UID:460-1718645400-1718650800@www.asv-senden.de
SUMMARY:Abnahme des Sportabzeichens
DESCRIPTION:Es ist wieder soweit\, wir bieten einen weiteren Termin zur Abnahme des Sportabzeichens an. Treffpunkt ist am 17.06.2024 im Sportpark Senden auf dem Sportplatz in der Zeit von 17:30 – 19:00 Uhr. \nFür Rückfragen ist die Geschäftstelle des ASV Senden gerne per Mail für Sie da. \nDie Gebühren für die Abnahme ab 18 Jahre sind: \n\nMitglieder des ASV Senden: 3\,- €\nNichtmitglieder: 5\,- €\n\nMit sportlichem Gruß\,\nDas Sportabzeichen Abnahme Team des ASV Senden
URL:https://www.asv-senden.de/veranstaltung/abnahme-des-sportabzeichens-240617/
LOCATION:Sportpark Senden\, Bulderner Str. 13\, Senden\, NRW\, 48308
CATEGORIES:Leichtathletik,Sportabzeichen
ATTACH;FMTTYPE=image/jpeg:https://www.asv-senden.de/wp-content/uploads/2024/06/beitrag_sportabzeichen_allgemein_640x320.jpg
ORGANIZER;CN="ASV Senden Turn- und Hallensport e.V.":MAILTO:info@asv-senden.de
END:VEVENT
END:VCALENDAR